BEGIN:VCALENDAR
VERSION:2.0
PRODID:-//Tukios.com/
BEGIN:VEVENT
UID:163d2aa6-654e-41f5-885f-9dd42b683e70@www.hgmackfuneralhome.com
DTSTAMP:20260422T011633Z
DTSTART:20260425T130000Z
DTEND:20260425T160000Z
SUMMARY:Visitation
DESCRIPTION:
URL:https://www.hgmackfuneralhome.com/obituaries/della-althaus
LOCATION: 236 S. Washington St  Tiffin OH 44883
GEO:41.1109816;-83.1763749
END:VEVENT
END:VCALENDAR