BEGIN:VCALENDAR
VERSION:2.0
PRODID:-//Tukios.com/
BEGIN:VEVENT
UID:e09d6e44-bcdf-463d-a528-1b04cec75a51@www.hgmackfuneralhome.com
DTSTAMP:20260422T011919Z
DTSTART:20260425T160000Z
DTEND:20260425T170000Z
SUMMARY:Funeral Service
DESCRIPTION:
URL:https://www.hgmackfuneralhome.com/obituaries/della-althaus
LOCATION: 236 S. Washington St  Tiffin OH 44883
GEO:41.1109816;-83.1763749
END:VEVENT
END:VCALENDAR